{"text_format":"3","workbook":"xlsx","n_sheets":1,"sheets":["Sheet1"],"not_rendered":{"external_links":1,"defined_names":2},"read":"whole","date_system":"1900"}

{"sheet":"Sheet1","index":0,"n_rows":106,"n_cols":4,"rows_kept":106,"merged":[[0,0,0,3]]}
["贵州航天职业技术学院关于贵州省2023下半年事业单位赴知名高校引才符合条件人员名单"]
["序号","姓名","毕业院校","所学专业"]
[1,"周娅",{"$f":"VLOOKUP(B3,[1]Sheet1!$B:$I,8,0)","v":"上海大学"},"建筑学"]
[2,"吴文建",{"$f":"VLOOKUP(B4,[1]Sheet1!$B:$I,8,0)","v":"贵州大学"},"控制科学与工程"]
[3,"肖康",{"$f":"VLOOKUP(B5,[1]Sheet1!$B:$I,8,0)","v":"南通大学"},"控制科学与工程"]
[4,"王大为",{"$f":"VLOOKUP(B6,[1]Sheet1!$B:$I,8,0)","v":"上海电力大学"},"控制科学与工程"]
[5,"浦枫",{"$f":"VLOOKUP(B7,[1]Sheet1!$B:$I,8,0)","v":"吉林外国语大学"},"旅游管理"]
[6,"高维浪",{"$f":"VLOOKUP(B8,[1]Sheet1!$B:$I,8,0)","v":"贵州民族大学"},"数学"]
[7,"刘艳",{"$f":"VLOOKUP(B9,[1]Sheet1!$B:$I,8,0)","v":"贵州民族大学"},"数学"]
[8,"毛怡婷",{"$f":"VLOOKUP(B10,[1]Sheet1!$B:$I,8,0)","v":"成都理工大学"},"数学"]
[9,"张娴子",{"$f":"VLOOKUP(B11,[1]Sheet1!$B:$I,8,0)","v":"贵州民族大学"},"数学"]
[10,"方薇然",{"$f":"VLOOKUP(B12,[1]Sheet1!$B:$I,8,0)","v":"贵州民族大学"},"数学"]
[11,"魏涛",{"$f":"VLOOKUP(B13,[1]Sheet1!$B:$I,8,0)","v":"贵州师范大学"},"计算数学"]
[12,"郑周桃",{"$f":"VLOOKUP(B14,[1]Sheet1!$B:$I,8,0)","v":"贵州大学"},"数学"]
[13,"周雪",{"$f":"VLOOKUP(B15,[1]Sheet1!$B:$I,8,0)","v":"辽宁师范大学"},"基础数学"]
[14,"陈红",{"$f":"VLOOKUP(B16,[1]Sheet1!$B:$I,8,0)","v":"贵州大学"},"体育（运动训练方向）"]
[15,"陈赟",{"$f":"VLOOKUP(B17,[1]Sheet1!$B:$I,8,0)","v":"贵州大学"},"体育（体育教学方向）"]
[16,"杜显浪",{"$f":"VLOOKUP(B18,[1]Sheet1!$B:$I,8,0)","v":"贵州民族大学"},"体育"]
[17,"舒俊",{"$f":"VLOOKUP(B19,[1]Sheet1!$B:$I,8,0)","v":"中国地质大学"},"体育（体育教育方向）"]
[18,"肖大程",{"$f":"VLOOKUP(B20,[1]Sheet1!$B:$I,8,0)","v":"贵州师范大学"},"体育教学"]
[19,"陈华宇",{"$f":"VLOOKUP(B21,[1]Sheet1!$B:$I,8,0)","v":"哈尔滨工业大学（深圳）"},"土木工程"]
[20,"陈忆",{"$f":"VLOOKUP(B22,[1]Sheet1!$B:$I,8,0)","v":"贵州大学"},"土木工程"]
[21,"姜浙江",{"$f":"VLOOKUP(B23,[1]Sheet1!$B:$I,8,0)","v":"贵州大学"},"土木工程"]
[22,"刘霞",{"$f":"VLOOKUP(B24,[1]Sheet1!$B:$I,8,0)","v":"贵州大学"},"土木工程"]
[23,"杨奎奎",{"$f":"VLOOKUP(B25,[1]Sheet1!$B:$I,8,0)","v":"贵州大学"},"土木工程"]
[24,"张权",{"$f":"VLOOKUP(B26,[1]Sheet1!$B:$I,8,0)","v":"贵州大学"},"土木工程"]
[25,"莫倩园",{"$f":"VLOOKUP(B27,[1]Sheet1!$B:$I,8,0)","v":"贵州大学"},"土木工程"]
[26,"秦波",{"$f":"VLOOKUP(B28,[1]Sheet1!$B:$I,8,0)","v":"贵州大学"},"土木工程（市政给排水）"]
[27,"王安选",{"$f":"VLOOKUP(B29,[1]Sheet1!$B:$I,8,0)","v":"贵州大学"},"土木工程"]
[28,"王小鹏",{"$f":"VLOOKUP(B30,[1]Sheet1!$B:$I,8,0)","v":"贵州大学"},"土木工程"]
[29,"翁银绩",{"$f":"VLOOKUP(B31,[1]Sheet1!$B:$I,8,0)","v":"兰州理工大学"},"结构工程"]
[30,"杨艳",{"$f":"VLOOKUP(B32,[1]Sheet1!$B:$I,8,0)","v":"福建农林大学"},"土木工程"]
[31,"张生林",{"$f":"VLOOKUP(B33,[1]Sheet1!$B:$I,8,0)","v":"华南理工大学"},"土木工程"]
[32,"张钊",{"$f":"VLOOKUP(B34,[1]Sheet1!$B:$I,8,0)","v":"辽宁工业大学"},"土木工程"]
[33,"黄后菊",{"$f":"VLOOKUP(B35,[1]Sheet1!$B:$I,8,0)","v":"辽宁工业大学"},"信息与通信工程"]
[34,"张普",{"$f":"VLOOKUP(B36,[1]Sheet1!$B:$I,8,0)","v":"福建师范大学"},"信息与通信工程"]
[35,"邓佳鸣",{"$f":"VLOOKUP(B37,[1]Sheet1!$B:$I,8,0)","v":"西安电子科技大学"},"哲学"]
[36,"贾珣慧紫",{"$f":"VLOOKUP(B38,[1]Sheet1!$B:$I,8,0)","v":"贵州大学"},"马克思主义哲学"]
[37,"李鑫",{"$f":"VLOOKUP(B39,[1]Sheet1!$B:$I,8,0)","v":"西南大学"},"中国哲学"]
[38,"陈聪熠",{"$f":"VLOOKUP(B40,[1]Sheet1!$B:$I,8,0)","v":"四川师范大学"},"哲学"]
[39,"陈丽芹",{"$f":"VLOOKUP(B41,[1]Sheet1!$B:$I,8,0)","v":"贵州大学"},"哲学（马克思主义哲学）"]
[40,"扶风琴",{"$f":"VLOOKUP(B42,[1]Sheet1!$B:$I,8,0)","v":"贵州大学"},"中国哲学"]
[41,"聂开蓉",{"$f":"VLOOKUP(B43,[1]Sheet1!$B:$I,8,0)","v":"贵州大学"},"哲学"]
[42,"石小敏",{"$f":"VLOOKUP(B44,[1]Sheet1!$B:$I,8,0)","v":"贵州大学"},"哲学（中国哲学方向）"]
[43,"田婷婷",{"$f":"VLOOKUP(B45,[1]Sheet1!$B:$I,8,0)","v":"四川师范大学"},"逻辑学"]
[44,"吴庆花",{"$f":"VLOOKUP(B46,[1]Sheet1!$B:$I,8,0)","v":"贵州大学"},"哲学"]
[45,"张容容",{"$f":"VLOOKUP(B47,[1]Sheet1!$B:$I,8,0)","v":"贵州大学"},"马克思主义哲学"]
[46,"王留洋",{"$f":"VLOOKUP(B48,[1]Sheet1!$B:$I,8,0)","v":"重庆大学"},"电气工程"]
[47,"严柏灵",{"$f":"VLOOKUP(B49,[1]Sheet1!$B:$I,8,0)","v":"西南民族大学"},"电子科学与技术"]
[48,"付莎莎",{"$f":"VLOOKUP(B50,[1]Sheet1!$B:$I,8,0)","v":"贵州大学"},"电子科学与技术"]
[49,"代涵",{"$f":"VLOOKUP(B51,[1]Sheet1!$B:$I,8,0)","v":"贵州师范大学"},"计算机科学与技术"]
[50,"段志坚",{"$f":"VLOOKUP(B52,[1]Sheet1!$B:$I,8,0)","v":"宁夏大学"},"计算机技术"]
[51,"何耀",{"$f":"VLOOKUP(B53,[1]Sheet1!$B:$I,8,0)","v":"贵州大学"},"计算机技术"]
[52,"李先红",{"$f":"VLOOKUP(B54,[1]Sheet1!$B:$I,8,0)","v":"贵州大学"},"计算机技术"]
[53,"刘超",{"$f":"VLOOKUP(B55,[1]Sheet1!$B:$I,8,0)","v":"贵州大学"},"计算机技术"]
[54,"刘杰",{"$f":"VLOOKUP(B56,[1]Sheet1!$B:$I,8,0)","v":"中国地质大学(武汉)"},"电子信息（控制工程）"]
[55,"龙宛青",{"$f":"VLOOKUP(B57,[1]Sheet1!$B:$I,8,0)","v":"中国科学院大学"},"计算机技术"]
[56,"陆国",{"$f":"VLOOKUP(B58,[1]Sheet1!$B:$I,8,0)","v":"贵州大学"},"电子信息（集成电路工程）"]
[57,"彭亚斯",{"$f":"VLOOKUP(B59,[1]Sheet1!$B:$I,8,0)","v":"安徽医科大学"},"电子信息"]
[58,"冉浪浪",{"$f":"VLOOKUP(B60,[1]Sheet1!$B:$I,8,0)","v":"西南民族大学"},"计算机技术"]
[59,"宋航",{"$f":"VLOOKUP(B61,[1]Sheet1!$B:$I,8,0)","v":"贵州大学"},"计算机技术"]
[60,"⽥玲芳",{"$f":"VLOOKUP(B62,[1]Sheet1!$B:$I,8,0)","v":"西南民族⼤学"},"电⼦信息"]
[61,"王才奎",{"$f":"VLOOKUP(B63,[1]Sheet1!$B:$I,8,0)","v":"大理大学"},"电子信息"]
[62,"杨红丹",{"$f":"VLOOKUP(B64,[1]Sheet1!$B:$I,8,0)","v":"沈阳工业大学"},"电子信息"]
[63,"袁力",{"$f":"VLOOKUP(B65,[1]Sheet1!$B:$I,8,0)","v":"电子科技大学"},"电子信息（人工智能）"]
[64,"张海",{"$f":"VLOOKUP(B66,[1]Sheet1!$B:$I,8,0)","v":"广西师范大学"},"新一代电子信息技术（含量子技术等）"]
[65,"张取",{"$f":"VLOOKUP(B67,[1]Sheet1!$B:$I,8,0)","v":"桂林电子科技大学"},"计算机技术"]
[66,"钟池",{"$f":"VLOOKUP(B68,[1]Sheet1!$B:$I,8,0)","v":"厦门大学"},"新一代电子信息技术"]
[67,"钟永旭",{"$f":"VLOOKUP(B69,[1]Sheet1!$B:$I,8,0)","v":"中国科学院大学"},"电子信息"]
[68,"张红",{"$f":"VLOOKUP(B70,[1]Sheet1!$B:$I,8,0)","v":"四川农业大学"},"风景园林"]
[69,"张平芳",{"$f":"VLOOKUP(B71,[1]Sheet1!$B:$I,8,0)","v":"西南林业大学"},"风景园林"]
[70,"杨果",{"$f":"VLOOKUP(B72,[1]Sheet1!$B:$I,8,0)","v":"吉林农业大学"},"风景园林"]
[71,"安驰",{"$f":"VLOOKUP(B73,[1]Sheet1!$B:$I,8,0)","v":"长江大学"},"风景园林"]
[72,"姚雪",{"$f":"VLOOKUP(B74,[1]Sheet1!$B:$I,8,0)","v":"四川⼤学"},"凤景园林"]
[73,"周易",{"$f":"VLOOKUP(B75,[1]Sheet1!$B:$I,8,0)","v":"西南交通大学"},"风景园林"]
[74,"田茂永",{"$f":"VLOOKUP(B76,[1]Sheet1!$B:$I,8,0)","v":"云南财经大学"},"工商管理"]
[75,"何秋亨",{"$f":"VLOOKUP(B77,[1]Sheet1!$B:$I,8,0)","v":"德国马格德堡大学"},"工商管理"]
[76,"谭露露",{"$f":"VLOOKUP(B78,[1]Sheet1!$B:$I,8,0)","v":"云南大学"},"企业管理"]
[77,"陈光林",{"$f":"VLOOKUP(B79,[1]Sheet1!$B:$I,8,0)","v":"贵州大学"},"机械工程"]
[78,"陈鹏",{"$f":"VLOOKUP(B80,[1]Sheet1!$B:$I,8,0)","v":"天津职业技术师范大学"},"机械工程"]
[79,"陈晓雪",{"$f":"VLOOKUP(B81,[1]Sheet1!$B:$I,8,0)","v":"贵州大学"},"机械工程"]
[80,"方晨凯",{"$f":"VLOOKUP(B82,[1]Sheet1!$B:$I,8,0)","v":"天津职业技术师范大学"},"机械工程"]
[81,"高蕊鑫",{"$f":"VLOOKUP(B83,[1]Sheet1!$B:$I,8,0)","v":"天津职业技术师范大学"},"机械工程"]
[82,"张黔富",{"$f":"VLOOKUP(B84,[1]Sheet1!$B:$I,8,0)","v":"贵州大学"},"机械工程"]
[83,"胡锃泽",{"$f":"VLOOKUP(B85,[1]Sheet1!$B:$I,8,0)","v":"天津职业技术师范大学"},"软件工程（嵌入式方向）"]
[84,"李振伟",{"$f":"VLOOKUP(B86,[1]Sheet1!$B:$I,8,0)","v":"天津职业技术师范大学"},"机械工程"]
[85,"陆乾江",{"$f":"VLOOKUP(B87,[1]Sheet1!$B:$I,8,0)","v":"贵州大学"},"机械制造及其自动化"]
[86,"任韩鹏",{"$f":"VLOOKUP(B88,[1]Sheet1!$B:$I,8,0)","v":"天津职业技术师范大学"},"机械工程"]
[87,"石浪",{"$f":"VLOOKUP(B89,[1]Sheet1!$B:$I,8,0)","v":"天津职业技术师范大学"},"车辆工程"]
[88,"孙浩楠",{"$f":"VLOOKUP(B90,[1]Sheet1!$B:$I,8,0)","v":"天津职业技术师范大学"},"机械工程"]
[89,"万国良",{"$f":"VLOOKUP(B91,[1]Sheet1!$B:$I,8,0)","v":"天津职业技术师范大学"},"机械工程"]
[90,"王秋燕",{"$f":"VLOOKUP(B92,[1]Sheet1!$B:$I,8,0)","v":"中国矿业大学（北京）"},"机械工程"]
[91,"王书剑",{"$f":"VLOOKUP(B93,[1]Sheet1!$B:$I,8,0)","v":"天津职业技术师范大学"},"车辆工程"]
[92,"王维",{"$f":"VLOOKUP(B94,[1]Sheet1!$B:$I,8,0)","v":"天津职业技术师范大学"},"机械工程"]
[93,"闫建凯",{"$f":"VLOOKUP(B95,[1]Sheet1!$B:$I,8,0)","v":"天津职业技术师范大学"},"机械工程"]
[94,"杨贵林",{"$f":"VLOOKUP(B96,[1]Sheet1!$B:$I,8,0)","v":"贵州大学"},"机械工程"]
[95,"杨坤",{"$f":"VLOOKUP(B97,[1]Sheet1!$B:$I,8,0)","v":"沈阳建筑大学"},"机械工程"]
[96,"尤航",{"$f":"VLOOKUP(B98,[1]Sheet1!$B:$I,8,0)","v":"贵州大学"},"机械工程"]
[97,"犹大国",{"$f":"VLOOKUP(B99,[1]Sheet1!$B:$I,8,0)","v":"贵州大学"},"机械工程"]
[98,"张庭军",{"$f":"VLOOKUP(B100,[1]Sheet1!$B:$I,8,0)","v":"昆明理工大学"},"机械工程"]
[99,"赵龙云",{"$f":"VLOOKUP(B101,[1]Sheet1!$B:$I,8,0)","v":"昆明理工大学"},"机械工程"]
[100,"钟俊杰",{"$f":"VLOOKUP(B102,[1]Sheet1!$B:$I,8,0)","v":"天津职业技术师范大学"},"机械工程"]
[101,"李洪超",{"$f":"VLOOKUP(B103,[1]Sheet1!$B:$I,8,0)","v":"昆明理工大学"},"计算机应用技术"]
[102,"李文勇",{"$f":"VLOOKUP(B104,[1]Sheet1!$B:$I,8,0)","v":"中南林业科技大学"},"土木工程"]
[103,"钟彪",{"$f":"VLOOKUP(B105,[1]Sheet1!$B:$I,8,0)","v":"东北石油大学"},"市政工程（含给排水等）"]
[104,"吴晋宇",{"$f":"VLOOKUP(B106,[1]Sheet1!$B:$I,8,0)","v":"贵州财经大学"},"计算机科学与技术"]